BEGIN:VCALENDAR
VERSION:2.0
PRODID:-//AudioTheme 3.0.2
BEGIN:VEVENT
UID:urn:uuid:4628d24c-403b-4375-8e4b-21ac4e2060b3
URL:https://charlesblandy.com/concerts/mozart-mass-in-c-minor/
DTSTART;TZID=GMT:20260322T003000
SUMMARY:Mozart: Mass in C minor | Orchestra Iowa
DESCRIPTION:Orchestra Iowa\, Timothy Hankewich\, conductor
LOCATION:Paramount Theatre\, 123 Third Avenue SE\, Cedar Rapids\, IA\, USA\, 52401
END:VEVENT
END:VCALENDAR
